BEGIN:VCALENDAR
VERSION:2.0
PRODID:-//St. Clare Parish - ECPv6.15.16.1//NONSGML v1.0//EN
CALSCALE:GREGORIAN
METHOD:PUBLISH
X-ORIGINAL-URL:https://www.stclareparish.org
X-WR-CALDESC:Events for St. Clare Parish
REFRESH-INTERVAL;VALUE=DURATION:PT1H
X-Robots-Tag:noindex
X-PUBLISHED-TTL:PT1H
BEGIN:VTIMEZONE
TZID:America/Los_Angeles
BEGIN:DAYLIGHT
TZOFFSETFROM:-0800
TZOFFSETTO:-0700
TZNAME:PDT
DTSTART:20250309T100000
END:DAYLIGHT
BEGIN:STANDARD
TZOFFSETFROM:-0700
TZOFFSETTO:-0800
TZNAME:PST
DTSTART:20251102T090000
END:STANDARD
BEGIN:DAYLIGHT
TZOFFSETFROM:-0800
TZOFFSETTO:-0700
TZNAME:PDT
DTSTART:20260308T100000
END:DAYLIGHT
BEGIN:STANDARD
TZOFFSETFROM:-0700
TZOFFSETTO:-0800
TZNAME:PST
DTSTART:20261101T090000
END:STANDARD
BEGIN:DAYLIGHT
TZOFFSETFROM:-0800
TZOFFSETTO:-0700
TZNAME:PDT
DTSTART:20270314T100000
END:DAYLIGHT
BEGIN:STANDARD
TZOFFSETFROM:-0700
TZOFFSETTO:-0800
TZNAME:PST
DTSTART:20271107T090000
END:STANDARD
END:VTIMEZONE
BEGIN:VEVENT
DTSTART;TZID=America/Los_Angeles:20260125T113000
DTEND;TZID=America/Los_Angeles:20260125T133000
DTSTAMP:20260423T100645
CREATED:20260114T212429Z
LAST-MODIFIED:20260114T212429Z
UID:9934-1769340600-1769347800@www.stclareparish.org
SUMMARY:School Pancake Breakfast & Open House
DESCRIPTION:Register for open house\n\n\n\n\nTo kick off the festivities for our Open House\, Saint Clare School will be offering a pancake breakfast to the parish community on Sunday\, January 25th\, in the parish hall. \n\n\n\nAfter Mass\, enjoy a meal of pancakes\, sausage\, scrambled eggs\, and country potatoes while supporting our school and students. Then\, make your way to our school’s Open House from 11:30 AM to 1:30 PM. \n\n\n\nBoth prospective and current school families are invited to experience our campus and learn more about our curriculum\, co-curriculars\, after-school activities\, and much more! \n\n\n\nSaint Clare School serves students from Transitional Kindergarten through 8th grade.  \n\n\n\nPlease answer the questions below to register and give our staff some insight on you and your student(s) before you arrive. If you have any questions in the meantime\, please feel free to reach out to our Director of Enrollment and Marketing at giuseppi.tanzi@dsj.org.  \n\n\n\nWe look forward to meeting you soon!
URL:https://www.stclareparish.org/event/school-pancake-breakfast-open-house/
ATTACH;FMTTYPE=image/jpeg:https://www.stclareparish.org/wp-content/uploads/2026/01/Breakfast-St.-Clare.jpeg
END:VEVENT
END:VCALENDAR