BEGIN:VCALENDAR
VERSION:2.0
PRODID:-//St. Clare Parish - ECPv6.15.16.1//NONSGML v1.0//EN
CALSCALE:GREGORIAN
METHOD:PUBLISH
X-ORIGINAL-URL:https://www.stclareparish.org
X-WR-CALDESC:Events for St. Clare Parish
REFRESH-INTERVAL;VALUE=DURATION:PT1H
X-Robots-Tag:noindex
X-PUBLISHED-TTL:PT1H
BEGIN:VTIMEZONE
TZID:America/Los_Angeles
BEGIN:DAYLIGHT
TZOFFSETFROM:-0800
TZOFFSETTO:-0700
TZNAME:PDT
DTSTART:20250309T100000
END:DAYLIGHT
BEGIN:STANDARD
TZOFFSETFROM:-0700
TZOFFSETTO:-0800
TZNAME:PST
DTSTART:20251102T090000
END:STANDARD
BEGIN:DAYLIGHT
TZOFFSETFROM:-0800
TZOFFSETTO:-0700
TZNAME:PDT
DTSTART:20260308T100000
END:DAYLIGHT
BEGIN:STANDARD
TZOFFSETFROM:-0700
TZOFFSETTO:-0800
TZNAME:PST
DTSTART:20261101T090000
END:STANDARD
BEGIN:DAYLIGHT
TZOFFSETFROM:-0800
TZOFFSETTO:-0700
TZNAME:PDT
DTSTART:20270314T100000
END:DAYLIGHT
BEGIN:STANDARD
TZOFFSETFROM:-0700
TZOFFSETTO:-0800
TZNAME:PST
DTSTART:20271107T090000
END:STANDARD
END:VTIMEZONE
BEGIN:VEVENT
DTSTART;TZID=America/Los_Angeles:20260328T150000
DTEND;TZID=America/Los_Angeles:20260328T160000
DTSTAMP:20260423T073129
CREATED:20260304T174717Z
LAST-MODIFIED:20260304T174717Z
UID:10062-1774710000-1774713600@www.stclareparish.org
SUMMARY:Sacrament of Reconciliation Liturgy
DESCRIPTION:We will have two communal celebrations of the Sacrament of Reconciliation (including confessions) during Holy Week. Our first liturgy will be on Saturday\, March 28\, at 3:00 pm\, followed on Tuesday\, March 31\, at 7:00 pm. Visiting confessors will be available at both liturgies
URL:https://www.stclareparish.org/event/sacrament-of-reconciliation-liturgy/
ATTACH;FMTTYPE=image/jpeg:https://www.stclareparish.org/wp-content/uploads/2025/10/a-candle-2905395_1280.jpg
END:VEVENT
END:VCALENDAR