BEGIN:VCALENDAR
VERSION:2.0
PRODID:-//St. Clare Parish - ECPv6.15.16.1//NONSGML v1.0//EN
CALSCALE:GREGORIAN
METHOD:PUBLISH
X-WR-CALNAME:St. Clare Parish
X-ORIGINAL-URL:https://www.stclareparish.org
X-WR-CALDESC:Events for St. Clare Parish
REFRESH-INTERVAL;VALUE=DURATION:PT1H
X-Robots-Tag:noindex
X-PUBLISHED-TTL:PT1H
BEGIN:VTIMEZONE
TZID:America/Los_Angeles
BEGIN:DAYLIGHT
TZOFFSETFROM:-0800
TZOFFSETTO:-0700
TZNAME:PDT
DTSTART:20250309T100000
END:DAYLIGHT
BEGIN:STANDARD
TZOFFSETFROM:-0700
TZOFFSETTO:-0800
TZNAME:PST
DTSTART:20251102T090000
END:STANDARD
BEGIN:DAYLIGHT
TZOFFSETFROM:-0800
TZOFFSETTO:-0700
TZNAME:PDT
DTSTART:20260308T100000
END:DAYLIGHT
BEGIN:STANDARD
TZOFFSETFROM:-0700
TZOFFSETTO:-0800
TZNAME:PST
DTSTART:20261101T090000
END:STANDARD
BEGIN:DAYLIGHT
TZOFFSETFROM:-0800
TZOFFSETTO:-0700
TZNAME:PDT
DTSTART:20270314T100000
END:DAYLIGHT
BEGIN:STANDARD
TZOFFSETFROM:-0700
TZOFFSETTO:-0800
TZNAME:PST
DTSTART:20271107T090000
END:STANDARD
END:VTIMEZONE
BEGIN:VEVENT
DTSTART;TZID=America/Los_Angeles:20260411T160000
DTEND;TZID=America/Los_Angeles:20260411T200000
DTSTAMP:20260423T054520
CREATED:20260408T181211Z
LAST-MODIFIED:20260408T181225Z
UID:10115-1775923200-1775937600@www.stclareparish.org
SUMMARY:Goat/Codfish Dinner
DESCRIPTION:Join in our annual St. Clare Portuguese Council Fundraiser Goat (Cabrito)/Codfish (Bacalhau) Dinner. Available for take out our dine in at the parish hall on April 11th starting at 4:00pm (for take out). Dine in begins at 6:30pm. A full dinner for only $45!
URL:https://www.stclareparish.org/event/goat-dinner/
ATTACH;FMTTYPE=image/jpeg:https://www.stclareparish.org/wp-content/uploads/2026/04/Goat-Dinner.jpg
END:VEVENT
END:VCALENDAR