BEGIN:VCALENDAR
VERSION:2.0
PRODID:-//St. Clare Parish - ECPv6.15.16.1//NONSGML v1.0//EN
CALSCALE:GREGORIAN
METHOD:PUBLISH
X-ORIGINAL-URL:https://www.stclareparish.org
X-WR-CALDESC:Events for St. Clare Parish
REFRESH-INTERVAL;VALUE=DURATION:PT1H
X-Robots-Tag:noindex
X-PUBLISHED-TTL:PT1H
BEGIN:VTIMEZONE
TZID:America/Los_Angeles
BEGIN:DAYLIGHT
TZOFFSETFROM:-0800
TZOFFSETTO:-0700
TZNAME:PDT
DTSTART:20250309T100000
END:DAYLIGHT
BEGIN:STANDARD
TZOFFSETFROM:-0700
TZOFFSETTO:-0800
TZNAME:PST
DTSTART:20251102T090000
END:STANDARD
BEGIN:DAYLIGHT
TZOFFSETFROM:-0800
TZOFFSETTO:-0700
TZNAME:PDT
DTSTART:20260308T100000
END:DAYLIGHT
BEGIN:STANDARD
TZOFFSETFROM:-0700
TZOFFSETTO:-0800
TZNAME:PST
DTSTART:20261101T090000
END:STANDARD
BEGIN:DAYLIGHT
TZOFFSETFROM:-0800
TZOFFSETTO:-0700
TZNAME:PDT
DTSTART:20270314T100000
END:DAYLIGHT
BEGIN:STANDARD
TZOFFSETFROM:-0700
TZOFFSETTO:-0800
TZNAME:PST
DTSTART:20271107T090000
END:STANDARD
END:VTIMEZONE
BEGIN:VEVENT
DTSTART;TZID=America/Los_Angeles:20260426T113000
DTEND;TZID=America/Los_Angeles:20260426T140000
DTSTAMP:20260423T025239
CREATED:20260416T221346Z
LAST-MODIFIED:20260416T221346Z
UID:10136-1777203000-1777212000@www.stclareparish.org
SUMMARY:Pancake Breakfast - Youth Fundraiser
DESCRIPTION:Join us for a pancake breakfast sponsored by the Knights of Columbus after the 10:30am and 12:00pm Mass. Donations are welcome to support youth fundraising efforts to retreat expenses. \n\n\n\nThe parish’s support of our youth ministry has given countless young people the ability to encounter and draw near to Christ whether it be through our annual Confirmation Retreat or the Diocesan Youth Retreat. In the past we have certainly helped more than 100 young people partake in these opportunities. In addition the support can be seen in the growth of our program with about 35 candidates consistently for Confirmation annually and increased our numbers to the Diocesan Youth Retreat from 8 to 32 over a couple of years. If anything\, your support has shown the vibrance of the St. Clare Youth Program. \n\n\n\n\nGive HERE!
URL:https://www.stclareparish.org/event/pancake-breakfast-youth-fundraiser/
END:VEVENT
BEGIN:VEVENT
DTSTART;TZID=America/Los_Angeles:20260823T080000
DTEND;TZID=America/Los_Angeles:20260823T190000
DTSTAMP:20260423T025239
CREATED:20260415T203635Z
LAST-MODIFIED:20260415T203635Z
UID:10131-1787472000-1787511600@www.stclareparish.org
SUMMARY:Parish 250th Kick Off BBBQ
DESCRIPTION:Join us to Kick-Off our 250th Anniversary  \n\n\n\nDetails TBD
URL:https://www.stclareparish.org/event/parish-250th-kick-off-bbbq/
ATTACH;FMTTYPE=image/png:https://www.stclareparish.org/wp-content/uploads/2025/07/lsgjspins-1.png
END:VEVENT
END:VCALENDAR