BEGIN:VCALENDAR
VERSION:2.0
PRODID:-//St. Clare Parish - ECPv6.15.16.1//NONSGML v1.0//EN
CALSCALE:GREGORIAN
METHOD:PUBLISH
X-WR-CALNAME:St. Clare Parish
X-ORIGINAL-URL:https://www.stclareparish.org
X-WR-CALDESC:Events for St. Clare Parish
REFRESH-INTERVAL;VALUE=DURATION:PT1H
X-Robots-Tag:noindex
X-PUBLISHED-TTL:PT1H
BEGIN:VTIMEZONE
TZID:America/Los_Angeles
BEGIN:DAYLIGHT
TZOFFSETFROM:-0800
TZOFFSETTO:-0700
TZNAME:PDT
DTSTART:20240310T100000
END:DAYLIGHT
BEGIN:STANDARD
TZOFFSETFROM:-0700
TZOFFSETTO:-0800
TZNAME:PST
DTSTART:20241103T090000
END:STANDARD
BEGIN:DAYLIGHT
TZOFFSETFROM:-0800
TZOFFSETTO:-0700
TZNAME:PDT
DTSTART:20250309T100000
END:DAYLIGHT
BEGIN:STANDARD
TZOFFSETFROM:-0700
TZOFFSETTO:-0800
TZNAME:PST
DTSTART:20251102T090000
END:STANDARD
BEGIN:DAYLIGHT
TZOFFSETFROM:-0800
TZOFFSETTO:-0700
TZNAME:PDT
DTSTART:20260308T100000
END:DAYLIGHT
BEGIN:STANDARD
TZOFFSETFROM:-0700
TZOFFSETTO:-0800
TZNAME:PST
DTSTART:20261101T090000
END:STANDARD
BEGIN:DAYLIGHT
TZOFFSETFROM:-0800
TZOFFSETTO:-0700
TZNAME:PDT
DTSTART:20270314T100000
END:DAYLIGHT
BEGIN:STANDARD
TZOFFSETFROM:-0700
TZOFFSETTO:-0800
TZNAME:PST
DTSTART:20271107T090000
END:STANDARD
END:VTIMEZONE
BEGIN:VEVENT
DTSTART;TZID=America/Los_Angeles:20260110T180000
DTEND;TZID=America/Los_Angeles:20260111T130000
DTSTAMP:20260423T140332
CREATED:20260107T080335Z
LAST-MODIFIED:20260107T080349Z
UID:9898-1768068000-1768136400@www.stclareparish.org
SUMMARY:Parish Renewal Weekend
DESCRIPTION:Learn about the many wonderful ministries and organizations in our parish. Meet current volunteers\, ask questions\, be open to the call to serve and share your gifts with us!After all masses\, representatives from all of the ministries and groups in our parish will be in the hall—with your donuts! and coffee!—eager to tell you about all of the ways in which you can get more involved here at Saint Clare’s. Did you know we have nearly twenty ministries and groups here in our parish\, including various catechetical programs\, liturgical ministries\, prayer groups and social justice groups? Our first Renewal Weekend last year was a great opportunity for everyone in our parish—the newcomers and the old-timers!—to learn more about these groups and consider getting involved.
URL:https://www.stclareparish.org/event/parish-renewal-weekend/
LOCATION:Parish Hall\, 941 Lexington St\, Santa Clara\, California\, 95050\, United States
ATTACH;FMTTYPE=image/jpeg:https://www.stclareparish.org/wp-content/uploads/2026/01/Parish-Renewal.jpeg
END:VEVENT
BEGIN:VEVENT
DTSTART;TZID=America/Los_Angeles:20251108T170000
DTEND;TZID=America/Los_Angeles:20251108T183000
DTSTAMP:20260423T140332
CREATED:20251030T065853Z
LAST-MODIFIED:20251030T065854Z
UID:9786-1762621200-1762626600@www.stclareparish.org
SUMMARY:Fiftieth Anniversary Celebration of our Portuguese Community
DESCRIPTION:November 8\, we will celebrate a bilingual (English/Portuguese) Mass at 5:00 pm\, to commemorate the Fiftieth Anniversary of the founding of the Portuguese Community at Saint Clare Parish. We invite all to come to this momentous event. We are most fortunate that our Newly-Ordained Auxiliary BishopAndy Ligot is able to be the main celebrant at the Mass\, just five days after his ordination. Come and support our Portuguese Community\, which has been so much a part of our parish these many years\,always supporting our parish and community endeavors. Let us now be there for them!
URL:https://www.stclareparish.org/event/fiftieth-anniversary-celebration-of-our-portuguese-community/
ATTACH;FMTTYPE=image/png:https://www.stclareparish.org/wp-content/uploads/2025/07/lsgjspins-1.png
END:VEVENT
END:VCALENDAR